BEGIN:VCALENDAR
VERSION:2.0
PRODID:-//wp-events-plugin.com//7.0.0.1//EN
TZID:Asia/Jerusalem
X-WR-TIMEZONE:Asia/Jerusalem
BEGIN:VEVENT
UID:1226@bayadaim.org.il
DTSTART;TZID=Asia/Jerusalem:20191125T200000
DTEND;TZID=Asia/Jerusalem:20191125T220000
DTSTAMP:20191125T125704Z
URL:https://www.bayadaim.org.il/events/winter/
SUMMARY:מתכוננים לחורף עם צמחי מרפא
DESCRIPTION: סדנת הכנת ערכה טיפולית לכל המשפחה
 \, בה נלמד להכין:\n\n 	ויטמין סי טבעי סופר אפ
 קטיבי מקליפות הדרים\n 	סירופ לחיזוק מערכת
  החיסון\n 	תרסיס חיטוי אנטיבקטריאלי מותאם
  לחדרי ילדים\n 	משקה חורפי לחימום וחיזוק ב
 ני הבית\n 	אינהלציות מהטבע לפתיחת דרכי הנ
 שימה.\n\nמספר המקומות מוגבל ל- 12 משתתפים וה
 רשמה מראש נדרשת בהקדם.\n\nמחיר הסדנא 280 ש"ח 
 (כולל מוצרים בשווי 150 ₪ שתזכו לקחת הביתה)\
 n\n&nbsp\;\n\nאמצעי תשלום: מזומן /  ביט למספר 053-
 9329396 / העברה בנקאית לעמותת קהילה\, בנק מזר
 חי טפחות\, סניף  572 חשבון 272726\n\n&nbsp\;\n\nלהרש
 מה הקליקו כאן:\n\nמיקום:  עם הטבע - מרחב חבר
 תי ירוק\, גן יבנה. חנייה בוייז:  בי"ס נופי 
 מולדת. כניסה רגלית מרחוב השיטה (כ-50 מטר במ
 עלה הרחוב).
ATTACH;FMTTYPE=image/jpeg:https://www.bayadaim.org.il/wp-content/uploads/2
 019/11/היערכות-טבעית-לחורף.png
CATEGORIES:בבית,סדנאות,צמחי מרפא
LOCATION:עם הטבע - מרחב חברתי ירוק\, השיטה\, גן 
 יבנה\, מחוז המרכז\, 7080000\, Israel
GEO:31.78652;34.712572
X-APPLE-STRUCTURED-LOCATION;VALUE=URI;X-ADDRESS=השיטה\, גן יבנה\
 , מחוז המרכז\, 7080000\, Israel;X-APPLE-RADIUS=100;X-TITLE=עם 
 הטבע - מרחב חברתי ירוק:geo:31.78652,34.712572
END:VEVENT
BEGIN:VTIMEZONE
TZID:Asia/Jerusalem
X-LIC-LOCATION:Asia/Jerusalem
BEGIN:STANDARD
DTSTART:20191027T010000
TZOFFSETFROM:+0300
TZOFFSETTO:+0200
TZNAME:IST
END:STANDARD
END:VTIMEZONE
END:VCALENDAR