BEGIN:VCALENDAR
VERSION:2.0
PRODID:-//wp-events-plugin.com//7.0.0.1//EN
TZID:Asia/Jerusalem
X-WR-TIMEZONE:Asia/Jerusalem
BEGIN:VEVENT
UID:1531@bayadaim.org.il
DTSTART;TZID=Asia/Jerusalem:20200226T200000
DTEND;TZID=Asia/Jerusalem:20200226T220000
DTSTAMP:20200213T101737Z
URL:https://www.bayadaim.org.il/events/movie-3/
SUMMARY:מועדון הסרט הירוק - נפט\, שקרים ומצלמת
  וידאו
DESCRIPTION:מועתק מעמוד האירוע בפייסבוק:\n\n\n\nמ
 ועדון הסרט הירוק בפברואר - "נפט\, שקרים ומ
 צלמת וידאו"\n\nניפגש ביום רביעי ה26/2/20\n\n20:00 
 הרצאה של רוני ניימן מארגון שומרי הבית\n20:3
 0 הקרנת הסרט - נפט\, שקרים ומצלמת וידאו\n\nס
 פרו לחברות וחברים 🙏🏻\n\nהכניסה חופשית ו
 נשמח שתזמינו חברות וחברים ותפיצו\n\nאיפה 
 כל זה קורה?\nאצלנו במרכז קיפוד\, רח' החי"ש 2\
 , כפר סבא\n\nהאירוע נגיש\, לשאלות או בקשות פ
 רטניות בענייני נגישות ניתן לפנות באופן פ
 רטני במייל kipod@ksaba.co.il \, או בטלפון - 09-7636536
ATTACH;FMTTYPE=image/jpeg:https://www.bayadaim.org.il/wp-content/uploads/2
 020/02/מועדון-הסרט-הירוק-נפט-שקרים-ומצלמת-ו
 דאו.jpg
CATEGORIES:הקרנות סרטים,הרצאות,מפגשים
END:VEVENT
BEGIN:VTIMEZONE
TZID:Asia/Jerusalem
X-LIC-LOCATION:Asia/Jerusalem
BEGIN:STANDARD
DTSTART:20191027T010000
TZOFFSETFROM:+0300
TZOFFSETTO:+0200
TZNAME:IST
END:STANDARD
END:VTIMEZONE
END:VCALENDAR