BEGIN:VCALENDAR
VERSION:2.0
PRODID:-//wp-events-plugin.com//7.0.0.1//EN
TZID:Asia/Jerusalem
X-WR-TIMEZONE:Asia/Jerusalem
BEGIN:VEVENT
UID:1099@bayadaim.org.il
DTSTART;TZID=Asia/Jerusalem;VALUE=DATE:20180101
DTEND;TZID=Asia/Jerusalem;VALUE=DATE:20180108
DTSTAMP:20171104T121354Z
URL:https://www.bayadaim.org.il/events/%d7%a9%d7%91%d7%95%d7%a2-%d7%a8%d7%
 99%d7%98%d7%a8%d7%99%d7%98-%d7%94%d7%aa%d7%9c%d7%9e%d7%93%d7%95%d7%aa-%d7%
 91%d7%90%d7%a7%d7%95%d7%9c%d7%95%d7%92%d7%99%d7%94-%d7%a2%d7%99%d7%a8%d7%9
 5%d7%a0%d7%99/
SUMMARY:ריטריט -- שבוע של התלמדות באקולוגיה ע
 ירונית בעץבעיר\, 1-7/1/18
DESCRIPTION:והפעם הריטריט מתקיים בתיאום עם שבע
 ת ימי מנוחה.\nאנחנו מזמינות אותך לקחת פסק 
 זמן משלל הסחות הדעת ולצלול בקפיצת ראש לע
 ומק ההתנסות שהעץ מציע\, במסגרת לימודים-חי
 ים. להתחבר לטבע שהוא עצמך\, שנמצא שם כל הז
 מן\, ליצור מגע חדש ומרענן עם האדמה\, הצמחי
 ם\, המזון\, המים והאנרגיה\, דרך עבודות הבית
  וטיפוח הגוף\, כחוויית יומיום ממשית ומתמש
 כת - החיים עצמם.
ATTACH;FMTTYPE=image/jpeg:https://www.bayadaim.org.il/wp-content/uploads/2
 017/04/17457315_1546525488692837_1995841687591953369_n.jpg
CATEGORIES:סדנאות,קורסים ארוכים
LOCATION:\, \, 
X-APPLE-STRUCTURED-LOCATION;VALUE=URI;X-ADDRESS=\, ;X-APPLE-RADIUS=100;X-TI
 TLE=:geo:0,0
END:VEVENT
BEGIN:VTIMEZONE
TZID:Asia/Jerusalem
X-LIC-LOCATION:Asia/Jerusalem
BEGIN:STANDARD
DTSTART:20171029T010000
TZOFFSETFROM:+0300
TZOFFSETTO:+0200
TZNAME:IST
END:STANDARD
END:VTIMEZONE
END:VCALENDAR