BEGIN:VCALENDAR
VERSION:2.0
PRODID:-//wp-events-plugin.com//7.0.0.1//EN
TZID:Asia/Jerusalem
X-WR-TIMEZONE:Asia/Jerusalem
BEGIN:VEVENT
UID:1848@bayadaim.org.il
DTSTART;TZID=Asia/Jerusalem:20201208T190000
DTEND;TZID=Asia/Jerusalem:20201208T203000
DTSTAMP:20201110T121604Z
URL:https://www.bayadaim.org.il/events/%d7%a7%d7%9e%d7%91%d7%95%d7%a6%d7%9
 4-%d7%95%d7%94%d7%97%d7%99%d7%99%d7%93%d7%a7%d7%99%d7%9d-%d7%a1%d7%93%d7%a
 0%d7%94-%d7%9e%d7%a7%d7%95%d7%95%d7%a0%d7%aa/
SUMMARY:קמבוצ'ה והחיידקים – סדנה מקוונת
DESCRIPTION:\n\n\nנלמד להכין בעצמנו קמבוצ'ה – משק
 ה פרוביוטי מרענן\, מושלם לארוחת חג חגיגית
  משמחת וממועטת אלכוהול (לא יותר מ-0.5%)\, טעי
 ם וחשוב לבריאות המעיים.\n\n\n\nהמפגש יתקיים 
 בזום. להרשמה ולקבלת קישורית לזום:\nhttp://short
 url.at/rvIJN\nהקישורית תקפה לכל הסדנאות של עונ
 ת סתיו–חורף וניתנת תמורת תשלום של 150 שקל.
 \nאם יש לך עניין רק בסדנה זו\, אפשר לשלם כל 
 סכום\, לפי היכולת ותחושת הלב בסוף הסדנה.\n
 לאפשרויות תשלום:\ncitytree.net/#donate\nלתמיכה קבו
 עה בעץבעיר:\nhttps://www.patreon.com/join/CityTree\nפטרוני
 ות משלמות רק 100 שקל עבור הסדרה.\n\nבמסגרת ה
 קורס המקוון השבועי "השיבה הביתה" – לימוד
 ים עם תמי צרי וחברות מעץבעיר – בית לאקול
 וגיה עירונית \nמקומפוסט ועד קהילה\, בין קט
 סטרופה לאוטופיה\, על בְּסיס סדרת הסרטוני
 ם "השיבה הביתה" המתפרסמת בערוץ יוטיוב של 
 עץבעיר – עכשיו הזמן לחשב מסלול מחדש.\nמגל
 ות שעולם נדיב לכולם ולכול אפשרי\, מחפשות 
 את הדרכים לחוות אותו כאן ועכשיו ומתחברות
  למעגלי השינוי\, לקהילה. \n"שידור ישיר" מהד
 ירה האקולוגית של עץבעיר בכיכר ביאליק\, במ
 פגשים מקוונים פתוחים.\n\nימי שלישי\, 19:00\n\nת
 מי\, אלון והעץ
ATTACH;FMTTYPE=image/jpeg:https://www.bayadaim.org.il/wp-content/uploads/2
 020/11/קמבוצה.jpg
CATEGORIES:בבית,המטבח
 האקולוגי,מזון,סדנאות,קורסים,קורסים
 מקוונים
LOCATION:עץבעיר\, חיים כהן 5\, פתח תקווה\, Israel
GEO:32.073301;34.770846
X-APPLE-STRUCTURED-LOCATION;VALUE=URI;X-ADDRESS=חיים כהן 5\, פתח 
 תקווה\, Israel;X-APPLE-RADIUS=100;X-TITLE=עץבעיר:geo:32.073301,
 34.770846
END:VEVENT
BEGIN:VTIMEZONE
TZID:Asia/Jerusalem
X-LIC-LOCATION:Asia/Jerusalem
BEGIN:STANDARD
DTSTART:20201025T010000
TZOFFSETFROM:+0300
TZOFFSETTO:+0200
TZNAME:IST
END:STANDARD
END:VTIMEZONE
END:VCALENDAR