BEGIN:VCALENDAR
VERSION:2.0
PRODID:-//wp-events-plugin.com//7.0.0.1//EN
TZID:Asia/Jerusalem
X-WR-TIMEZONE:Asia/Jerusalem
BEGIN:VEVENT
UID:2306@bayadaim.org.il
DTSTART;TZID=Asia/Jerusalem:20221024T090000
DTEND;TZID=Asia/Jerusalem:20230220T150000
DTSTAMP:20220910T105622Z
URL:https://www.bayadaim.org.il/events/%d7%a7%d7%95%d7%a8%d7%a1-%d7%a4%d7%
 a8%d7%9e%d7%a7%d7%9c%d7%a6%d7%a8-2022-2023-%d7%91%d7%99%d7%a2%d7%a8-%d7%94
 %d7%9e%d7%90%d7%9b%d7%9c-%d7%91%d7%99%d7%aa-%d7%9c%d7%97%d7%9d-%d7%94%d7%9
 2%d7%9c%d7%99-2/
SUMMARY:קורס פרמקלצ'ר 2022-2023 ביער המאכל בית לח
 ם הגלילית - ימי שני
DESCRIPTION:קורס פרמקלצ'ר מעמיק העוסק בכל תחומ
 י החיים\nקישור לפרטים והרשמה\nמה הקורס נו
 תן לי?\n\n\n 	\nקודם כל והכי חשוב - מרווח נשימ
 ה. מפגש שבועי שעוסק ב-wellbeing שלך\, כחלק אינה
 רנטי מה-wellbeing של שאר העולם\n\n 	\nחשיפה עשיר
 ה ורחבה לגישות ופרקטיקות מעולם הקיימות\n\
 n 	\nהתנסות מעשית מדי שיעור\, הזדמנות 'ללכל
 ך את הידיים' וללמוד דרך הגוף את מה שלא עוב
 ר דרך הראש\n\n 	\nמלוא הידע הדרוש לתכנן להקי
 ם ולתחזק גינה/בוסתן/יער מאכל או כל מערכת 
 אקולוגית בת-קיימא אחרת\, מ-0 ל-100 \n\n 	\nמי שע
 ומד בדרישות - תעודת מתכנן/ת פרמקלצ'ר מוסמ
 ך/ת (PDC)\, אם לצרכי מקצוע ואם לצרכים פרטיים\
 n\n 	\nקבוצה חברתית לליווי חווית הלמידה ולפ
 וטנציאל המשך עשייה משותפת\n\n\n&nbsp\;\nמה מאפ
 יין את הקורס אצלנו​\n\n\n 	\nלמעלה מ-10 מנחים 
 אורחים\, מומחי תוכן שהיתה לנו הזכות ללקט 
 משנה לשנה את הטובים ביותר ולהקפיד על רף ג
 בוה לא רק של ידע וניסיון אלא של הדרכה והנ
 גשה ברמה שתצדיק את המפגש האנושי על-פני הר
 צאה בזום\n\n 	\n4 ביקורים בחוות ומודלים נוספ
 ים מלבד היער\, ועוד 3 מפגשי בחצרות המשתתפי
 ם לטובת תרגול תכנון בסביבות מגוונות\n\n 	\n
 אין אצלנו זום\, וגם כמעט ללא מצגות. המון ד
 גש על המפגש האנושי\, החוויה וההתנסות המעש
 ית\n\n 	\nיש פה יער מאכל מתוחזק ופורה\, אנחנו
  חיים את מה שאנחנו מלמדים\, עושה טוב על הל
 ב לבוא לבקר אחת לשבועיים לראות איך הכל צו
 מח ושולח שורשים\, ומשתנה לאורך עונות השנה
 \n\n 	\nלמרות כל הבחוץ\, ובעצם יחד עם כל הבחו
 ץ\, יש מרחב לימודים סגור נח ונעים שהוא בפנ
 י עצמו אחת מהאבנים השואבות של המקום\n\n 	\nפ
 רופורציה - מתאים לאנשים שבא להם לא רק ללמ
 וד אלא גם להינות\, לצחוק\, לעשות לעצמם טוב\
 n\n 	\nפרגמטיות - לצד הקייל אנחנו שותים קפה. 
 הפרמקלצ'ר כאן מדבר את השפה של אורח החיים 
 המודרני\, לא מתוך פשרה אלא מתוך הכרה חיוב
 ית בערך של אלו. השיקול הסביבתי הוא רק אחד 
 מהשיקולים ולא חזות הכל\n\n 	\nגישה פרואקטיב
 ית\, של אחריות אישית\n\n\n​\nפירוט המפגשים (
 ייתכנו שינויים)\n1. היכרות ומבוא \n\n\n 	\nהיכ
 רות וסיור ביער המאכל\n\n 	\nמבוא למשבר הסבי
 בתי\, לקיימות ופרמקלצ'ר (ויערות מאכל)\n\n 	\n
 שתילת עצים וחבורות צמחיה\n\n\n2. קרקע\n\n\n 	\nב
 דיקות קרקע\, סוגי קרקעות\, הרכבים\n\n 	\nהכנת
  תערובת שתילה (והנבטת שתילי ירקות\, לקחת ה
 ביתה)\n\n 	\nסוקצסיה וריפוי אדמה\n\n 	\nחיידקי
 ם\, פטריות\, נמטודות\, פרוטזואות - נעים להכ
 יר\, בואו נעשה סדר (דרך המיקרוסקופ)\n\n 	\nהכ
 נת תכשירים HOME-MADE עתירי מיקרו-ביולוגיה וי
 ישומם בשטח\n\n\n3. עקרונות הפרמקלצ'ר + הפחתה 
 והאטה \n\n\n 	\nעקרונות הפרמקלצ'ר\n\n 	\nלמידה 
 הדדית\, מתרבות השפע לתודעת שפע\n\n 	\nתכנון 
 פרמקלצ'ר בשירות היום-יום\n\n 	\nתרגול בהתמק
 דות​\n\n\n4. תכנון בר-קיימא א': מאקרו \n\n\n 	\nד
 פוסים טבעיים מהם\n\n 	\nמיפוי אתר וחלוקה לא
 זורים וסקטורים\n\n 	\nמארג אלמנטים ומיקום י
 חסי\n\n 	\nתרגול תכנון\n\n\n5. תחזוקה - ריבוי צמ
 חים וטיפול בהם\n\n\n 	\nחלקי הצמח\, רבייה בצמ
 חים וזרעי מורשת\, התנהלות במחזור הגידול\n\
 n 	\nזיהוי וטיפול בבעיות (מזג-אוויר\, חוסרי
 ם ועודפים\, ניהול עשבייה ומתחרים\, ניהול מ
 זיקים\n\n 	\nגיזום כתחזוקה\n\n 	\nייחורים (הכנ
 ת מגש ייחורים לקחת הביתה)​\n\n\n6. גידול ירק
 ות (מעלה צביה) \n\n\n 	\nעקרונות לגינת ירק יצ
 רנית (פרטית/מסחרית-מקומית) ברת-קיימא\n\n 	\n
 התנסות בהקמת ערוגה\n\n 	\nתחזוקה\, טיפול במז
 יקים ועשבייה​\n\n\n7. בניה ירוקה ('חווה ואדם
 '\, מודיעין) \n\n\n 	\nבניה ירוקה ואקלימית\n\n 	\
 nסיור בחווה ודוגמאות\n\n 	\nהתנסות: בניה באד
 מה\n\n\n8. מדיניות סביבתית + כסף וקיימות + הת
 נסות מעשית \n\n\n 	\nהתנסות מעשית ואינטגרצי
 ה לידע עד כה\n\n 	\nמבוא למדיניות סביבה\n\n 	\n
 מנחה אורח: המשרד להגנת הסביבה\n\n 	\nהמגזר ה
 רביעי המתחדש\n\n\n9. מים\n\n\n 	\nמרים בן שלום\, 
 נציגת 'אגמא' – מרכז ידע לאגני היקוות\, נגר
  ונחלים\n\n 	\nפרקטיקות של חיסכון במים\n\n 	\nמ
 ערכות מים אפורים\n\n 	\nניתוח שטח (איתור אגן
  ניקוז\, שיקלול נתונים מטאורולוגיים וגאו
 מורפולוגיים) למיקסום חילחול מי הגשמים\n\n\
 n10. עמוק בתוך העיר (ביקור ב'עץ בעיר' וב'מרכ
 ז לקיימות עירונית דיזנגוף סנטר'\, ת"א)\n\n\n 	
 \nתכנון אורבני בר-קיימא\n\n 	\nעמית נויפלד: ת
 נועת ההאטה: 'איך לשנות את העולם בלי לקום מ
 הכיסא'\n\n 	\nתמי צרי: סיור ב'עץ בעיר' - דירת ה
 הדגמה לקיימות עירונית\n\n 	\nסיור במרכז לקי
 ימות עירונית בדיזינגוף סנטר וסדנת הידרו
 פוניקה\n\n\n11. רפואת צמחים ורוקחות טבעית\n\n\
 n 	\nעדו קרן: סיור והתנסות בהכנת תכשירים​\n
 \n\n12. תכנון בר-קיימא ב': צמחייה \n\n\n 	\nתפקוד
  ותפקיד היער\, צרכים ופונקציות של צמחים\n\n
  	\nריבוד וצמחייה שיתופית\n\n 	\nתרגול תכנון\
 n\n\n13. תזונה \n\n\n 	\nסיור ליקוט\n\n 	\nתזונה עם 
 עונות השנה\n\n 	\nעיבוד ושימור מזון\, התססה
 ​\n\n\n14. פרמקלצ'ר חברתי ('עם הטבע'\, גן יבנה +
  'יערה מקום לצמוח'\, קדרון) \n\n\n 	מודלים חבר
 תיים לפרוייקטים סביבתיים\n 	\nסוקצסיה קהי
 לתית ומתכון להקמת פרוייקט חברתי\n\n\n15. בעל
 י-חיים (קטנים) \n\n\n 	\nסטפן קסטנבוים: שפת הצ
 יפורים\n\n 	\nהילמר קונמן: דבורת הדבש כחלק מ
 סופר-אורגניזם\; היכרות\, מצוקות ומה ניתן ל
 עשות\n\n\n16. אוטונומיה בצריכה העצמית - דר' א
 ליק פלמן\, ביקור בכליל\n\n\n 	\nסיור במרחב הב
 יתי והמשקי של אליק\, חשיפה לאורח החיים הנ
 ובע מניהול עצמי של אספקת המזון\n\n 	\nשיחה ע
 ם אליק על היתרונות והאתרגים במשק אוטרקי\n
 \n\n17. אנרגיה מתחדשת + התנסות מעשית \n\n\n 	\nה
 תבוננות ועבודה רפלקטיבית בשטח &gt\; תחנות 
 מסכמות ביער מכל שיעור\n\n 	\nפרמקלצ'ר לאן הל
 אה\, כיוונים להמשך לימוד ותעסוקה\n\n 	\nבונו
 ס: צמחי בית\, למה ואיך\n\n\n18. הצגת פרוייקטים
  + פרמקלצ'ר דרכנו לאן + סיכום \n\n\n 	\nהצגת פר
 וייקטים\, קבלת משוב\n\n 	\nסיכום\, חגיגת סיום
 \, תעודות\n\n\nמתי?\n18 מפגשים אחת לשבוע בימי 
 שני בשעות 9:00-15:00. תאריכים -\n\n\n 	\n(2022): 24.10\, 31
 .10\, 7.11\, 14.11\, 21.11\, 28.11\, 5.12\, 12.12\, 19.12\, 26.12\n\n 	\n(
 2023): 2.1\, 9.1\, 16.1\, 23.1\, 29.1 (יום ראשון)\, 6.2\, 13.2\, 2
 0.2\n\n\nעל סגל הקורס:\nניצן בצר –  מתכנן פר
 מקלצ'ר\, ​​טייס קרב שאין שוחר שלום ממנו\, 
 תואר שני בניהול מערכות חינוך\, מורה ליוגה
 . איש עשייה בקטע מוגזם\, סבור שכל משימה לו
 קחת '5 דקות'\, חובב מיקרואורגניזמים ותנועה
 \nיולי בצר –  אחראית הנגשה תיווך וניסוח
 ים\, תואר בפיתוח סביבתי וקיימות\, מאמינה ש
 כסף זו הבשורה של יזמות חברתית\, מלקטת השר
 אה ונחמות\, ניזונה מגירוי אינטלקטואלי\, א
 דפטיבית\, חזקה יותר ממה שהיא נראית\nמרצים 
 אורחים (ייתכנו שינויים):\n\n\n 	דר' אליק פלמן
 : פילוסוף ואיכר. מרצה לאקו-פילוסופיה\, מנה
 ל משק אוטונומי לצריכה ביתית\n 	אסף מינינב
 רג – מורה לפרמקלצ'ר\, מתמחה בגידול מזון ב
 יתי\, קהילתי\, ומסחרי בקנה מידה קטן\, שימור
  זרעי מורשת ובישול עונתי מקומי\n 	אורלי קנ
 ת - יזמית חברתית בתחומי קיימות\, קהילה וצד
 ק חברתי.  הקימה ומנהלת את "עם הטבע" ואת הק
 ואופ ומרכז צמחי מרפא בגן יבנה\n 	תמי צרי –
  מנהלת פרוייקט לאקולוגיה עירונית 'עץ בעי
 ר'\, ת"א\, וממובילי המרד בהכחדה\n 	עדו קרן – 
 הרבליסט קליני\, מטפל בצמחי מרפא\, מחנך ב'ש
 ומרי הגן' ומדריך טיולי ליקוט\n 	יערה מקום 
 לצמוח - יער מאכל חברתי טיפולי\, המשלב בין 
 שיקום אדם ואדמה\, משתלה והדרכה.\n 	מרים בן 
 שלום – נציגת 'אגמא'\, מרכז ידע לאגני היקוו
 ת\, נגר ונחלים\n 	אפי תורן / סטפן קסטנבוים 
 – מורי 'שפת הציפורים'\n 	הילמר קונמן – דבו
 ראי ביו-דינאמי\, בוגר קורס גידול דבורים ה
 וליסטי במרכז Mellifera גרמניה\, יזם 'BeeSpot' ליצי
 רת ביטחון תזונתי לדבורים\n 	רינה אפשטיין 
 – רכזת חקלאות ופרמקלצ'ר בחווה ואדם\, מדרי
 כה ומלווה חקלאים בתהליכי הקמת משקים אורג
 ניים\n 	עידית פורת – רכזת תחום בניה באדמה 
 בחווה ואדם\, אמנית ומורה לאומנות ולבניה ב
 אדמה\n 	יערה בן נחום – רכזת אנרגיות מתחדש
 ות מרכז השל\, ממקימי מרכז הידע לחדשנות בט
 כניון\, לשעבר רכזת ביחידה סביבתית מוניצי
 פלית\n\nמסגרת הקורס:​​\n\n\n 	\nהקורס יועבר ב
 יער המאכל בית לחם הגלילית\, למעט 5 סיורי ח
 וץ ועד שלושה מפגשים אצל משתתפי הקורס\n\n 	\n
 בהתכנסות בבוקר יהיה כיבוד קל\, וכל אחד מב
 יא לעצמו ארוחת צהריים (או שנעשה התארגנות 
 לארוחה משותפת)\n\n 	\nלמידה בשיטת "כיתה הפוכ
 ה" – המשתתפים יקבלו את כל החומר שבוע לפני
  המפגש\, יגיעו למפגש אחרי שעברו על המושגי
 ם והעקרונות\, במפגש עצמו נעבור על כל החומ
 ר ביתר קלות וכך יתפנה זמן לשאלות\, הבהרות 
 והתנסות\n\n 	\nכל מפגש יורכב מרקע לנושא\, לי
 מוד תאורטי והתנסות מעשית בשטח\n\n 	\nלאחר כ
 ל מפגש יישלח למשתתפים דף חומרים ותרגול ל
 צורך התנסות נוספת והפנמת החומר. כל חומרי 
 הקורס יופיעו בדרייב ויועמדו לשירות המשת
 תפים גם לאחר הקורס\n\n 	\nבמהלך הקורס ישנם ת
 רגולים מומלצים ממפגש למפגש\, אשר תומכים א
 ת התרגיל המסכם\n\n 	\nכתלות בנוכחות במפגשים
  ובביצוע התרגיל מסכם – בסיום הקורס יקבלו
  המשתתפים תעודת הסמכה בינלאומית מטעם "יע
 ר המאכל בית לחם הגלילית" וארגון "פרמקלצ'ר 
 ישראל" המוכר ע"י ארגון הפרמקלצ'ר הבינלאומ
 י.\n\n 	\nמשתתף אשר יחסיר מפגש במהלך הקורס מ
 וזמן להשלים אותו במהלך המחזור הבא\n\n\nעלו
 ת:​\n\n\n 	עלות: 4\,700\n 	הנחת 'חבר מביא חבר': 5% ל
 ך וגם לחבר.\n 	להשלמת ההרשמה והבטחת מקומכם
  בקורס יש לקיים ראיון טלפוני ולשלם 500 ש"ח 
 דמי הרשמה. את שאר התשלום ניתן להסדיר עד ל
 מפגש הראשון (עד 7 תשלומים).\n 	ההשתתפות מות
 נית באישור סגל הקורס\, לאחר ראיון טלפוני 
 מקדים.\n 	מדיניות ביטולים:\n\n 	ביטול טרם תח
 ילת הקורס הוא בעלות דמי ההרשמה ושיריון ה
 מקום (שמהווים את דמי הביטול הבסיסיים).\n 	ל
 ביטול לאחר תחילת הקורס ועד למפגש השלישי (
 כולל)\, ייגבו בנוסף לדמי ההרשמה 350 ש"ח למפג
 ש\, על כל מפגש שחלף עד למסירת הודעת הביטול
  (לא לפי כמות המפגשים בהם המשתתף נכח או לא
  נכח). יתרת התשלום תוחזר למשתתף.\n 	ביטול ל
 אחר מועד המפגש השלישי\, אינו מקנה החזר כס
 פי.\n\n\n\nקישור לפרטים והרשמה
ATTACH;FMTTYPE=image/jpeg:https://www.bayadaim.org.il/wp-content/uploads/2
 022/01/פרסום-פרמקלצר.jpeg
CATEGORIES:בנייה באדמה,גינון
 וחקלאות,הכשרה,המטבח
 האקולוגי,ליקוט,מזון,פרמקלצ'ר,צמחי
 מרפא,קורסים,קורסים ארוכים
LOCATION:יער המאכל בית לחם הגלילית\, בית לחם ה
 גלילית\, בית לחם הגלילית\, ישראל\, 3600700\, צפ
 ון\, Israel
X-APPLE-STRUCTURED-LOCATION;VALUE=URI;X-ADDRESS=בית לחם הגלילי
 ת\, בית לחם הגלילית\, ישראל\, 3600700\, צפון\, Isra
 el;X-APPLE-RADIUS=100;X-TITLE=יער המאכל בית לחם הגלילי
 ת:geo:0,0
END:VEVENT
BEGIN:VTIMEZONE
TZID:Asia/Jerusalem
X-LIC-LOCATION:Asia/Jerusalem
BEGIN:DAYLIGHT
DTSTART:20220325T030000
TZOFFSETFROM:+0200
TZOFFSETTO:+0300
TZNAME:IDT
END:DAYLIGHT
BEGIN:STANDARD
DTSTART:20221030T010000
TZOFFSETFROM:+0300
TZOFFSETTO:+0200
TZNAME:IST
END:STANDARD
END:VTIMEZONE
END:VCALENDAR