BEGIN:VCALENDAR
VERSION:2.0
PRODID:-//wp-events-plugin.com//7.0.0.1//EN
TZID:Asia/Jerusalem
X-WR-TIMEZONE:Asia/Jerusalem
BEGIN:VEVENT
UID:1843@bayadaim.org.il
DTSTART;TZID=Asia/Jerusalem:20201204T090000
DTEND;TZID=Asia/Jerusalem:20201204T130000
DTSTAMP:20201108T130145Z
URL:https://www.bayadaim.org.il/events/%d7%a7%d7%95%d7%a8%d7%a1-%d7%9e%d7%
 91%d7%95%d7%90-%d7%9c%d7%92%d7%99%d7%a0%d7%95%d7%9f-%d7%90%d7%a7%d7%95%d7%
 9c%d7%95%d7%92%d7%99-%d7%92%d7%9f-%d7%94%d7%99%d7%a8%d7%a7-%d7%94%d7%91%d7
 %99%d7%aa%d7%99/
SUMMARY:קורס מבוא לגינון אקולוגי- גן הירק הבי
 תי
DESCRIPTION:קורס קצר ומעשי בן 4 שעות בפרדס חנה ב
 ו נלמד על\n\nגידול ירקות בעציצים\, הקמת ערו
 גות פוריות\,\n\nהכנת שתילים\, איסוף זרעים ו
 שימוש בדשנים וקומפוסט!\n\nהכנסו וראו את כל
  הפרטים\, מתחילים ב-04.12.20!\n\n&nbsp\;\n\nhttps://homeagri
 culture.org/gardening-intro/\n\n
ATTACH;FMTTYPE=image/jpeg:https://www.bayadaim.org.il/wp-content/uploads/2
 020/11/גידול-ירקות-2.jpg
CATEGORIES:גינון וחקלאות,לילדים +
 הורים,סדנאות,פרמקלצ'ר,קורסים,קורסים בימי
 שישי
END:VEVENT
BEGIN:VTIMEZONE
TZID:Asia/Jerusalem
X-LIC-LOCATION:Asia/Jerusalem
BEGIN:STANDARD
DTSTART:20201025T010000
TZOFFSETFROM:+0300
TZOFFSETTO:+0200
TZNAME:IST
END:STANDARD
END:VTIMEZONE
END:VCALENDAR