BEGIN:VCALENDAR
VERSION:2.0
PRODID:-//wp-events-plugin.com//7.0.0.1//EN
TZID:Asia/Jerusalem
X-WR-TIMEZONE:Asia/Jerusalem
BEGIN:VEVENT
UID:1525@bayadaim.org.il
DTSTART;TZID=Asia/Jerusalem;VALUE=DATE:20200302
DTEND;TZID=Asia/Jerusalem;VALUE=DATE:20200814
DTSTAMP:20200212T173101Z
URL:https://www.bayadaim.org.il/events/%d7%a7%d7%95%d7%a8%d7%a1-%d7%9c%d7%
 97%d7%a7%d7%9c%d7%90%d7%95%d7%aa-%d7%90%d7%a7%d7%95%d7%9c%d7%95%d7%92%d7%9
 9%d7%aa/
SUMMARY:קורס לחקלאות אקולוגית
DESCRIPTION:קורס הכשרה בחקלאות אקולוגית\n\nמבוא
 :\n\nבשנים האחרונות אנו עדים לפריחה מחודשת
  של ענף חקלאי שנראה כי אבד\, ענף גני הירק.\n
 \nגן הירק הינו מערכת חקלאית השונה מאוד מה
 מערכות החקלאיות השכיחות בתעשיית החקלאות
  המונו-קולטורית (מערכות גידול של צמח אחד).
 \n\nגן הירק מהווה מערכת חקלאית אקולוגית מג
 וונת המכילה מינים רבים של צמחי מאכל ורפו
 אה הגדלים יחדיו באותו השדה  (פולי – קולט
 ורה). המגוון הביולוגי הרב מאפשר לשדה החקל
 אי להתקיים כמערכת אקולוגית מגוונת בה מתק
 יימים מינים רבים של צמחים\, מיקרואורגניז
 מים ובע”ח יחדיו באינטראקציה אחד עם השני.
  הרב-גוניות הזאת מעלה אתגרים לחקלאי אך מצ
 ד שני גם מאפשרת הזדמנויות לשיתוף פעולה ב
 ין הצמחים לעצמם ולגורמים אחרים (הזנה הדד
 ית\, הגנה מפני מזיקים\, הגברה של נוכחות מא
 ביקים ועוד…)\n\nהמגוון בשדה אף מאפשר הזדמ
 נויות לחקלאי – ייצור של תנובת שדה אורגני
 ת\, טרייה ומגוונת במכירה ישירה לצרכן ללא 
 עלויות התיווך של סופרים וקמעונאים אחרים\
 , תוך שיתוף הצרכן ביופי תהליכי הייצור הטב
 עיים המתרחשים בשדה.\n\nמבחינה כלכלית\, מגו
 ון הגידולים גם מספק רשת ההגנה כלכלית\; בש
 דה המורכב מסוגים רבים של ירקות שונים\, נד
 יר מאוד מצב שבו השדה כולו נכשל. גם כאשר גי
 דולי מסוים לא מצליח\, ישנם עוד עשרות גידו
 לים אחרים שעולים יפה ולכן הנזק הכלכלי הו
 א קטן והאיום על החקלאי אינו גדול כמו בשדה
  מונו-קולטורה.\n\nלצד היתרונות\, המורכבות ה
 נוצרת מריבוי גידולים דורשת מומחיות רבה ו
 רחבה. להבדיל מהחקלאי הקונבנציונאלי שיוד
 ע לגדל גידול אחד\, חקלאי גן הירק נדרש להכי
 ר מספר רב של גידולים אשר לכל אחד דרישות ש
 ונות\; זמני זריעה ושתילה שונים\, טכניקות ש
 ונות של גידול\, רגישויות שונות למחלות ומז
 יקים ועוד. לכן חקלאי פוליקולטורה נמצא בת
 הליך מתמיד של למידה ובגישה של צניעות אל מ
 ול הלא נודע.\n\nבקורס להכשרת חקלאים אקולוג
 יים אנו למדים מהטבע.\n\nהעונה\, הגידולים ומ
 ה שקורה בדרך מכתיבים לנו את נושאי השיעור.
 \n\nאני יכול לתת לכם את הניסיון\, הידע\, הפר
 קטיקה\, החוויה\, המרחב ואת הכלים שיהפכו את
 כם לחקלאים מנוסים.\n\n הנה סרטון קצר המעבי
 ר את רוח החקלאות אותה אנחנו עושים ומלמדי
 ם בחווה:\n\n\n\n הבהרה:\n\nבקורס נלמד ונתנסה ב
 טכניקות מסחריות לחקלאות אקולוגית בקנה מ
 ידה של בין דונם לעשרות דונמים.\n\nהקורס מש
 לב עבודה פיזית בשדה בכל תנאי מזג אויר!\n\nח
 קלאים רבים שהתחילו ללא ניסיון למדו זאת ע
 ל בשרם וכיסם ולא אחת הפסידו עשרות אלפי שק
 לים בשנתיים הראשונות עד שנכנסו לתלם או פ
 רשו.\n\nהקורס מאפשר לכל אחד (גם ללא ניסיון 
 קודם) להתנסות באורך החיים ובמקצוע החקלאו
 ת ללא צורך בסיכון סכומי כסף גדולים וללא צ
 ורך לעזוב את העבודה הנוכחית שלו.\n\nמסגרת 
 הקורס:\n\nנפגש אחת לשבוע בקבוצה לעבוד\, ללמ
 וד ולקטוף מהיבול.\n\nכל מפגש יארך כ- 3 שעות.\
 n\nעל חלקת הלימוד יעבדו שלוש קבוצות וניתן 
 להצטרף לאחת הקבוצות לאורך כל התקופה על ב
 סיס מקום פנוי.\n\nלהלן הימים והשעות עבור כ
 ל קבוצה:\n\nקבוצה א‘ – ימי שני 14:00-17:00\n\nקבו
 צה ב’ – ימי חמישי 10:00-13:00\n\nהקורס מתרחש ב
 אופן רציף ומחזורי מעונה לעונה.\n\nמספר המק
 ומות בקבוצת הלימוד מוגבל\, לכן רק הרשמה מ
 ראש מבטיחה את השתתפותכם/ן.\n\nכדי ליצור יצ
 יבות בהרכב הקבוצה\, התלמידים בקורס מתבקש
 ים לשלם מראש ולהתחייב לתקופה של שישה חוד
 שים.\n\nמחיר הקורס כ – 500 ש”ח לחודש.\n\nבמקר
 ה של ביטול השתתפות ע”י התלמיד לאחר תחילת
  הקורס ייגבה תשלום בעד חודש לימוד נוסף ממ
 ועד ההודעה על ביטול ההשתתפות והיתרה תוחז
 ר לתלמיד.\n\nבימי חג/שבתון לא יתקיים שיעור.
  תלמידים המעוניינים בכך יוכלו להצטרף לקב
 וצה אחרת כדי להשלים את המפגש החסר.\n\nבמיד
 ה ויתבטל שעור מכל סיבה אחרת יתווסף לקבוצ
 ה שיעור נוסף לאחר מועד הסיום המקורי.\n\nתל
 מיד שיסיים תקופה של 5.5 חודשים (עונת גידול
  אחת שלמה) יהיה זכאי לתעודת חקלאי אקולוגי
  מטעם “חווה ואדם” וארגון “פרמקלצ’ר ישר
 אל”.\n\nבנוסף\, חקלאות פוליקולטורה הינה תה
 ליך למידה אין-סופי ולכן כל תלמיד שיהיה מע
 וניין להמשיך ללמוד בקבוצה וליהנות מתנוב
 ת השדה יהיה רשאי להירשם ולהמשיך לקחת חלק 
 בקורס גם למחזור הלימוד והעונה הבאה.\n\nתכנ
 י הקורס יותאמו למצב השדה\, האקלים ורמת הי
 דע של התלמידים.\n\nמידע וחומר עזר בנושאים 
 הנלמדים יישלחו באי-מייל.\n\nבסוף כל מפגש ה
 תלמידים מוזמנים לקטוף לביתם ארגז ירקות מ
 היבול הגדל בחלקת הלימוד.\n\nלסילבוס המלא\, 
 מחיר ותנאי תשלום והרשמה – קורס הכשרה בח
 קלאות אקולוגית אביב 2020\n\nלאתר “חווה ואדם
 ” – לחצו כאן \n\n&nbsp\;
ATTACH;FMTTYPE=image/jpeg:https://www.bayadaim.org.il/wp-content/uploads/2
 020/02/פלייר-חקלאים-3.18-סופי.jpg
CATEGORIES:הכשרה
LOCATION:\, \, 
GEO:31.91621;34.977133
X-APPLE-STRUCTURED-LOCATION;VALUE=URI;X-ADDRESS=\, ;X-APPLE-RADIUS=100;X-TI
 TLE=:geo:31.91621,34.977133
END:VEVENT
BEGIN:VTIMEZONE
TZID:Asia/Jerusalem
X-LIC-LOCATION:Asia/Jerusalem
BEGIN:STANDARD
DTSTART:20191027T010000
TZOFFSETFROM:+0300
TZOFFSETTO:+0200
TZNAME:IST
END:STANDARD
BEGIN:DAYLIGHT
DTSTART:20200327T030000
TZOFFSETFROM:+0200
TZOFFSETTO:+0300
TZNAME:IDT
END:DAYLIGHT
END:VTIMEZONE
END:VCALENDAR