BEGIN:VCALENDAR
VERSION:2.0
PRODID:-//wp-events-plugin.com//7.0.0.1//EN
TZID:Asia/Jerusalem
X-WR-TIMEZONE:Asia/Jerusalem
BEGIN:VEVENT
UID:1834@bayadaim.org.il
DTSTART;TZID=Asia/Jerusalem:20201215T000000
DTEND;TZID=Asia/Jerusalem:20210126T000000
DTSTAMP:20201111T102510Z
URL:https://www.bayadaim.org.il/events/%d7%a7%d7%95%d7%a8%d7%a1-%d7%92%d7%
 99%d7%93%d7%95%d7%9c-%d7%9e%d7%96%d7%95%d7%9f-%d7%90%d7%95%d7%a0%d7%9c%d7%
 99%d7%99%d7%9f-2-%d7%9e%d7%97%d7%96%d7%95%d7%a8-22-%d7%91%d7%95%d7%a1%d7%a
 a%d7%a0%d7%99/
SUMMARY:קורס גידול מזון אונליין 2# (מחזור 22#) ב
 וסתניקה
DESCRIPTION:החזון שמניע את בוסתניקה הוא עיר יר
 וקה\, בה משולבים החיים האורבניים האהובים 
 בהרמוניה עם הטבע - שמשתלט על כל חלקה פנוי
 ה -  מרפסות גגות ואדני החלונות\n​\nבמשך 20 
 מחזורים של 'קורס לגידול מזון בעיר'\, הבאנו
  את המושג מהאדנית אל הצלחת לבתים רבים\, וכ
 עת - הגיע הזמן לאפשר זאת גם מרחוק!\n\n\nמה כו
 לל הקורס?\n\n\n\n 	\n4 מפגשי אונליין בני שעה ו
 חצי (17:00-18:30)\nימי שלישי בתאריכים:\n15/12 \, 29/12 
 \, 12/1\, 26/1\n\n 	\nמרווחים של שבועיים בין שיעור
  לשיעור - מאפשרים למשתתפים לישם את הנלמד 
 בקורס ולראות תוצאות תוך כדי התהליך.\n\n 	\nל
 יווי אישי בתהליך הקמת/שדרוג הגינה\n(בקבוצ
 ת וואטסאפ סגורה של משתתפי הקורס ובאופן פ
 רטני במייל ובשיחת טלפון אישית)\n\n 	\nחוברת 
 הדרכה דיגיטלית על גידול מזון בעיר\n\n 	\nקו
 בץ מקיף ויחיד מסוגו לגידול צמחים לפי סוו
 גים מותאמים\n\n\n&nbsp\;\n\n\n
LOCATION:בוסתניקה - תכנון\, הקמה וטיפוח של גינ
 ות מאכל בעיר\, ייעוץ והדרכה\, רחוב גבעת כ"ח
 \, תל אביב\, Israel
X-APPLE-STRUCTURED-LOCATION;VALUE=URI;X-ADDRESS=רחוב גבעת כ\"ח\, 
 תל אביב\, Israel;X-APPLE-RADIUS=100;X-TITLE=בוסתניקה - תכ
 נון\, הקמה וטיפוח של גינות מאכל בעיר\, ייע
 וץ והדרכה:geo:0,0
END:VEVENT
BEGIN:VTIMEZONE
TZID:Asia/Jerusalem
X-LIC-LOCATION:Asia/Jerusalem
BEGIN:STANDARD
DTSTART:20201025T010000
TZOFFSETFROM:+0300
TZOFFSETTO:+0200
TZNAME:IST
END:STANDARD
END:VTIMEZONE
END:VCALENDAR