BEGIN:VCALENDAR
VERSION:2.0
PRODID:-//wp-events-plugin.com//7.0.0.1//EN
TZID:Asia/Jerusalem
X-WR-TIMEZONE:Asia/Jerusalem
BEGIN:VEVENT
UID:2208@bayadaim.org.il
DTSTART;TZID=Asia/Jerusalem:20220406T203000
DTEND;TZID=Asia/Jerusalem:20220406T220000
DTSTAMP:20220403T111232Z
URL:https://www.bayadaim.org.il/events/%d7%a1%d7%9c%d7%95%d7%9f-%d7%a2%d7%
 99%d7%a8-%d7%99%d7%a2%d7%a8-%d7%9e%d7%90%d7%a8%d7%97%d7%99%d7%9d-%d7%90%d7
 %aa-%d7%90%d7%99%d7%aa%d7%9e%d7%a8-%d7%95%d7%99%d7%a6%d7%9e%d7%9f/
SUMMARY:סלון עיר-יער מארחים את איתמר ויצמן
DESCRIPTION:\n\n&nbsp\;\n\n\n\n\nעמותת ונטעת מציגה: סלון
  עיר־יער! נארח את איתמר ויצמן\, מנהל קרן ה
 שקעות אקלים ומייסד הוצאת הספרים רדיקל - נ
 ציג את תנועת עיר יער\, ונגלה מהי באמת השקע
 ה בעתיד שלנו?!\n\n\n\n\n\n\n\n\nיום רביעי 6.4.22 בשע
 ה 20:30 זמן ישראל ב ZOOM\n\n\n\n\n\n\n\n\nאורך המפגש כ
 שעה וחצי והוא ללא עלות - המפגש מוקלט וייש
 לח לרשומים\n\n\n\n\n\n\n\n\n\n\n\nבסלון עיר־יער הק
 רוב אנחנו נארח את איתמר ויצמן\, שהקים את ה
 הוצאה לאור האקלימית רדיקאל\, שותף מייסד ב
 קרן השקעות האקלים של firstime.\nיזם חברתי ומי
 יסד ארגון V15 כבר בגיל 22! שימש כמנהל קמפיינ
 ים בארגון הסביבה הגדול בעולם\, גרינפיס אי
 נטרנשיונל\, והוביל קמפיינים בינלאומיים ס
 ביב משבר האקלים.\n\nאיתמר ידבר איתנו על הא
 סטרטגיה שלו למהפך בזירה האקלימית דרך כלי
 ם פיננסים\, חינוך עומק\, ודרכים שונות להני
 ע את התרבות שלנו לצמוח ממש כמו יער!\nנענה 
 יחד על שאלות מעניינות -\n\n\n 	מה היא השקעת א
 קלים? ולמה כל כך כדאי לנו להשקיע באדמה של
 נו?\n 	איך מקימים תנועה חברתית שיכולה להני
 ע מאות אלפי אנשים לפעול בשיתוף פעולה?\n 	א
 יך משתמשים בכלים כלכליים כדי לעשות שינוי
  עמוק ורחב?\n 	מה החשיבות של ספרים בעידן שכ
 ולו מדיה מהירה?\n\n\n\n\n\n\n\n&nbsp\;\n\n\n\n\n\n\n\n\n\n\n\n
 \n\n\n\nאיתמר ויצמן עושה מהפכות כבר משנות ה
 נעורים שלו - מוביל מהפכות פוליטיות\, מנהל 
 קמפיינים של ארגונים סביבתיים בינלאומיים
 \, ומקים קרנות השקעות ירוקות - ועכשיו הוא 
 החליט להשקיע הרבה מאוד אנרגיה דווקא בהקמ
 ת הוצאת ספרים לתרגום ספרות אקלימית מרחבי
  העולם - אנחנו מתרגשים לגלות מה איתמר מתכ
 נן לעשות ואיך תנועת עיר־יער תתפתח בעקבות
  העשייה המבורכת הזו!\n\n\n\n\n\n\n\n\n\n\n\n\n\n\n\n\n\n\n
 \n\nאביב בייליס לרנר ממייסדי ארגון אקוטופ
 יה ועמותת ונטעת. חוקר ותיק בתחום האקולוג
 יה העירונית והיזמות הירוקה.\n\n\n\n\n\n\n\n\n\nאנ
 חנו מזמינים אתכם לצאת איתנו למסע - שיחה ב
 ין אביב בייליס לרנר ממייסדי עמותת ונטעת 
 עם איתמר ויצמן - השיחה באנגלית\n\n\n\n
CATEGORIES:הרצאות
END:VEVENT
BEGIN:VTIMEZONE
TZID:Asia/Jerusalem
X-LIC-LOCATION:Asia/Jerusalem
BEGIN:DAYLIGHT
DTSTART:20220325T030000
TZOFFSETFROM:+0200
TZOFFSETTO:+0300
TZNAME:IDT
END:DAYLIGHT
END:VTIMEZONE
END:VCALENDAR