BEGIN:VCALENDAR
VERSION:2.0
PRODID:-//wp-events-plugin.com//7.0.0.1//EN
TZID:Asia/Jerusalem
X-WR-TIMEZONE:Asia/Jerusalem
BEGIN:VEVENT
UID:1860@bayadaim.org.il
DTSTART;TZID=Asia/Jerusalem:20201219T100000
DTEND;TZID=Asia/Jerusalem:20201219T130000
DTSTAMP:20201213T215809Z
URL:https://www.bayadaim.org.il/events/%d7%a1%d7%99%d7%95%d7%a8-%d7%9c%d7%
 99%d7%a7%d7%95%d7%98-%d7%91%d7%aa%d7%9c-%d7%90%d7%91%d7%99%d7%91%f0%9f%8c%
 bf/
SUMMARY:סיור ליקוט בתל-אביב🌿
DESCRIPTION:האם ידעתם כמה אוצרות קולינריים גדל
 ים ונובטים עכשיו בשדות?\nכמה עלי בייבי ונ
 בטים רעננים ובריאים מבצבצים עכשיו?\n\nהצט
 רפו לסיור ליקוט להכרת צמחי בר אכילים ומר
 פאים.\nנכיר\, נטעם\, נלקט\, נספר ונסיים בפיק
 ניק מטעמים בהם ישולבו הצמחים שנלקט!!\nהצט
 רפו לחוויה מעשירה וקולינרית מרתקת!\n\nמיק
 ום: גבול תל-אביב/רמת-גן (מיקום מדוייק ישלח
  לנרשמים)\nעלות: 100 שח לאדם.\nמספר המקומות מ
 וגבל ל-20 איש!\n\nפרטים נוספים והרשמה 050-6823131
  ופה בקישור:\n\n\nis.gd/kMURpz
ATTACH;FMTTYPE=image/jpeg:https://www.bayadaim.org.il/wp-content/uploads/2
 020/12/IMG-20201205-WA0041-1.jpg
CATEGORIES:ליקוט
END:VEVENT
BEGIN:VTIMEZONE
TZID:Asia/Jerusalem
X-LIC-LOCATION:Asia/Jerusalem
BEGIN:STANDARD
DTSTART:20201025T010000
TZOFFSETFROM:+0300
TZOFFSETTO:+0200
TZNAME:IST
END:STANDARD
END:VTIMEZONE
END:VCALENDAR