BEGIN:VCALENDAR
VERSION:2.0
PRODID:-//wp-events-plugin.com//7.0.0.1//EN
TZID:Asia/Jerusalem
X-WR-TIMEZONE:Asia/Jerusalem
BEGIN:VEVENT
UID:1861@bayadaim.org.il
DTSTART;TZID=Asia/Jerusalem:20210102T100000
DTEND;TZID=Asia/Jerusalem:20210102T100000
DTSTAMP:20201221T114709Z
URL:https://www.bayadaim.org.il/events/%d7%a1%d7%99%d7%95%d7%a8-%d7%9c%d7%
 99%d7%a7%d7%95%d7%98-%d7%91%d7%99%d7%a2%d7%a8-%d7%97%d7%a8%d7%95%d7%91%d7%
 99%d7%aa-2/
SUMMARY:סיור ליקוט ביער חרובית
DESCRIPTION:\n\nהאם ידעתם כמה אוצרות קולינריים ג
 דלים ונובטים עכשיו בשדות?\nכמה עלי בייבי 
 ונבטים רעננים ובריאים מבצבצים עכשיו?\n\nה
 צטרפו לסיור ליקוט להכרת צמחי בר אכילים ו
 מרפאים.\nנכיר\, נטעם\, נלקט\, נספר ואף נפתח 
 שולחן למאכלים בו ישולבו הצמחים שנלקט!!\nה
 צטרפו לחוויה מעשירה וקולינרית מרתקת!\n\nמ
 יקום: יער חרובית.\nעלות: 100 שח לאדם.\nמספר ה
 מקומות מוגבל!\n\nלהרשמה גם פה בקישור:\nis.gd/Zp
 G5dn\n050-6823131
CATEGORIES:ליקוט
END:VEVENT
BEGIN:VTIMEZONE
TZID:Asia/Jerusalem
X-LIC-LOCATION:Asia/Jerusalem
BEGIN:STANDARD
DTSTART:20201025T010000
TZOFFSETFROM:+0300
TZOFFSETTO:+0200
TZNAME:IST
END:STANDARD
END:VTIMEZONE
END:VCALENDAR