BEGIN:VCALENDAR
VERSION:2.0
PRODID:-//wp-events-plugin.com//7.0.0.1//EN
TZID:Asia/Jerusalem
X-WR-TIMEZONE:Asia/Jerusalem
BEGIN:VEVENT
UID:777@bayadaim.org.il
DTSTART;TZID=Asia/Jerusalem:20160520T090000
DTEND;TZID=Asia/Jerusalem:20160521T173000
DTSTAMP:20161023T140830Z
URL:https://www.bayadaim.org.il/events/%d7%a1%d7%93%d7%a0%d7%aa-%d7%9e%d7%
 a0%d7%99%d7%a2%d7%99%d7%9d-%d7%98%d7%a8%d7%a0%d7%96%d7%99%d7%a9%d7%9f-2016
 /
SUMMARY:סדנת מניעים טרנזישן 2016
DESCRIPTION:ב20-12/5 נקיים את סדנת "מניעים טרנזישן
 " 2016 בחממה האקולוגית עין שמר.בסדנה נלמד א
 יך לארגן\, להקים ולקיים יוזמת טרנזישן\, נק
 בל כלים ודגשים מה חשוב לעשות בראשית דרכן 
 של יוזמות טרנזישן\, ונפגוש עוד אנשים כמונ
 ו\, שרוצים ליצור מציאות טובה סביבנו.\nפרטי
 ם ועדכונים באירוע הפייסבוק  סדנת "מניעים 
 טרנזישן" 2016 (ניתן גם לכתוב לנו במייל transitio
 nisrael@gmail.com)\nטופס ההרשמה ופרטי התשלום לhttp:/
 /goo.gl/forms/LxObbuvWIm
ATTACH;FMTTYPE=image/jpeg:https://www.bayadaim.org.il/wp-content/uploads/2
 016/05/2014-04-04-348.jpg
CATEGORIES:סדנאות
END:VEVENT
BEGIN:VTIMEZONE
TZID:Asia/Jerusalem
X-LIC-LOCATION:Asia/Jerusalem
BEGIN:DAYLIGHT
DTSTART:20160325T030000
TZOFFSETFROM:+0200
TZOFFSETTO:+0300
TZNAME:IDT
END:DAYLIGHT
END:VTIMEZONE
END:VCALENDAR