BEGIN:VCALENDAR
VERSION:2.0
PRODID:-//wp-events-plugin.com//7.0.0.1//EN
TZID:Asia/Jerusalem
X-WR-TIMEZONE:Asia/Jerusalem
BEGIN:VEVENT
UID:1853@bayadaim.org.il
DTSTART;TZID=Asia/Jerusalem:20210108T083000
DTEND;TZID=Asia/Jerusalem:20210108T130000
DTSTAMP:20201115T104517Z
URL:https://www.bayadaim.org.il/events/%d7%a1%d7%93%d7%a0%d7%aa-%d7%94%d7%
 92%d7%a0%d7%9f-%d7%94%d7%9e%d7%a1%d7%95%d7%a8-5-%d7%91%d7%a7%d7%93%d7%a8%d
 7%95%d7%9f-%d7%99%d7%a0%d7%95%d7%90%d7%a8-2021-2/
SUMMARY:סדנת "הגנן המסור 5" בקדרון\, ינואר 2021
DESCRIPTION:\nכבר זרעתם\, שתלתם והנה הערוגות מתח
 ילות להניב...\nאך שתילת הערוגות זה רק 50% מה
 עניין!\nמה שיבטיח את פוריות ובריאות הגינה
  שלכם לאורך העונה זאת תחזוקה נכונה ומדוי
 קת. תחזוקה אשר שואפת בכל פעולה לייצר ולחז
 ק את האיזון הביולוגי בגינה ומסתכלת על ער
 וגות הירק כחלק ממערכת אחת שלמה.\nסדנת הגנ
 ן המסור שלנו באה לתת מענה לכל השאלות שעול
 ות והפעולות הנדרשות לתחזוקה הנכונה של גי
 נת הירק שלנו כך שנוכל לטפחה וליהנות מיבו
 לה לאורך כל העונה.\nהתכנים בסדנה:\n- הדליית
  הירקות בצורה פשוטה ויעילה\n- ניהול (ולא מ
 לחמה) של העשבייה\n- ניצול מירבי של השטח הק
 יים\n- קטיף נכון שמעודד המשך תנובה\n- טיפול
  בזריעות ושתילות חדשות\n- צמחיה תומכת בגן 
 הירק\n- וגולת הכותרת-ניהול גן הירק ללא תיח
 וח!\nמיקום: גן הירק של גינה מזינה ביער המא
 כל בקדרון\nמועד: שלושה ימי שישי 1/1/21 + 8/1/21 +1
 5/1/21 בשעות 8:30-13:00\nמחיר: בהרשמה מוקדמת עד 18/
 12\, 560 ש"ח\, לאחר מכן מחיר מלא 630 ש"ח\nדמי הרש
 מה להבטחת מקומכן/ם: 100 ש"ח\n* על כל משתתף שת
 ביאו לסדנה\, תזכו ל-20 ש"ח הנחה!\n** טרם הכנתן
  את ערוגות החורף? בהרשמה מראש גם ל"סדנת גי
 נה מזינה" תוכלו להנות ממחיר הנחה משמעותי 
 לשתי הסדנאות יחד.\nהרשמה: https://forms.gle/WK3vk6wDYs
 EfW3B67\nלשאלות מוזמנים ליצור איתנו קשר במיי
 ל ginamezina@gmail.com\nנשמח לראותכן/ם!\nאלכס ובני
ATTACH;FMTTYPE=image/jpeg:https://www.bayadaim.org.il/wp-content/uploads/2
 020/11/מודעה-לבידיים-הגנן-המסור.png
CATEGORIES:גינון וחקלאות,מזון,פרמקלצ'ר,קורסים
 בימי שישי
LOCATION:יער המאכל בקדרון\, קדרון\, התפוח\,  \, Isr
 ael
GEO:31.815655923328052;34.79426486242676
X-APPLE-STRUCTURED-LOCATION;VALUE=URI;X-ADDRESS=קדרון\, התפוח\,  
 \, Israel;X-APPLE-RADIUS=100;X-TITLE=יער המאכל בקדרון:geo:31
 .815655923328052,34.79426486242676
END:VEVENT
BEGIN:VTIMEZONE
TZID:Asia/Jerusalem
X-LIC-LOCATION:Asia/Jerusalem
BEGIN:STANDARD
DTSTART:20201025T010000
TZOFFSETFROM:+0300
TZOFFSETTO:+0200
TZNAME:IST
END:STANDARD
END:VTIMEZONE
END:VCALENDAR