BEGIN:VCALENDAR
VERSION:2.0
PRODID:-//wp-events-plugin.com//7.0.0.1//EN
TZID:Asia/Jerusalem
X-WR-TIMEZONE:Asia/Jerusalem
BEGIN:VEVENT
UID:1862@bayadaim.org.il
DTSTART;TZID=Asia/Jerusalem:20201227T193000
DTEND;TZID=Asia/Jerusalem:20201227T203000
DTSTAMP:20201224T115150Z
URL:https://www.bayadaim.org.il/events/%d7%9e%d7%a4%d7%a8%d7%a5-%d7%97%d7%
 99%d7%a4%d7%94-%d7%91%d7%95%d7%90%d7%95-%d7%a0%d7%93%d7%91%d7%a8-%d7%a2%d7
 %9c-%d7%96%d7%94/
SUMMARY:מפרץ חיפה - בואו נדבר על זה!
DESCRIPTION:\n\nדמיינו לכם את הנוף של עמק זבולון 
 ללא הארובות של בתי זיקוק. את הנסיעות לבקר
  את ההורים בקריות ללא ריחות מזעזעים של שפ
 כים כימיים. דמיינו לכם מצב שבו נחל הקישון
  נקי. אין ריח רע\, אין זיהום אוויר\, הנוף המ
 תגלה לדרי שכונת הדר בחיפה הוא נוף עוצר נש
 ימה. נשמע כמו חלום נכון?\nכל זה אינו משל ול
 א חלום! זה יכול לקרות וזה תלוי רק בנו. ישנ
 ה תכנית להבראת מפרץ חיפה. היא קיימת ומתוכ
 ננת לפרוטרוט. עכשיו אנחנו\, הציבור ותושבי
  האזור\, צריכים להפעיל את הלחץ המתאים כדי 
 שיבחרו את התכנית הנכונה עבור כולנו ולא ר
 ק עבור הטייקונים והתאגידים הגדולים.\nהצט
 רפו אלינו לשיחה מעמיקה עם מאיה ממגמה ירו
 קה.\nיום ראשון ה-27/12 בשעה 19:30 בזום.\nקישור ל
 שיחה: http://us02web.zoom.us/j/85204921666\nתרגישו חופשי ל
 הפיץ לכמה שיותר אנשים!\n&nbsp\;
CATEGORIES:מפגשים
END:VEVENT
BEGIN:VTIMEZONE
TZID:Asia/Jerusalem
X-LIC-LOCATION:Asia/Jerusalem
BEGIN:STANDARD
DTSTART:20201025T010000
TZOFFSETFROM:+0300
TZOFFSETTO:+0200
TZNAME:IST
END:STANDARD
END:VTIMEZONE
END:VCALENDAR