BEGIN:VCALENDAR
VERSION:2.0
PRODID:-//wp-events-plugin.com//7.0.0.1//EN
TZID:Asia/Jerusalem
X-WR-TIMEZONE:Asia/Jerusalem
BEGIN:VEVENT
UID:853@bayadaim.org.il
DTSTART;TZID=Asia/Jerusalem:20161217T103000
DTEND;TZID=Asia/Jerusalem:20161217T133000
DTSTAMP:20161120T184604Z
URL:https://www.bayadaim.org.il/events/%d7%9e%d7%a4%d7%92%d7%a9-%d7%9c%d7%
 99%d7%a7%d7%95%d7%98-%d7%91%d7%91%d7%95%d7%a1%d7%aa%d7%9f-%d7%94%d7%a7%d7%
 94%d7%99%d7%9c%d7%aa%d7%99-%d7%99%d7%94%d7%95%d7%93-%d7%9e%d7%95%d7%a0%d7%
 a1%d7%95%d7%9f/
SUMMARY:מפגש ליקוט בבוסתן הקהילתי יהוד-מונסו
 ן
DESCRIPTION:בין החצרות\, בין המרצפות במדרכות\, ע
 ל הגדרות ובכל פיסת אדמה צומחים להם צמחי ב
 ר\n\nשיוצרים לנו פיסה קטנה של טבע עירוני.\n
 רבים מן הצמחים הללו הם צמחים אכילים שאפש
 ר לקטוף ממש מתחת לבית ולהכין מהם ארוחה טע
 ימה.
ATTACH;FMTTYPE=image/jpeg:https://www.bayadaim.org.il/wp-content/uploads/2
 016/11/2016-01-09-13.12.47.jpg
CATEGORIES:המטבח האקולוגי,לילדים +
 הורים,מזון,סדנאות
END:VEVENT
BEGIN:VTIMEZONE
TZID:Asia/Jerusalem
X-LIC-LOCATION:Asia/Jerusalem
BEGIN:STANDARD
DTSTART:20161030T010000
TZOFFSETFROM:+0300
TZOFFSETTO:+0200
TZNAME:IST
END:STANDARD
END:VTIMEZONE
END:VCALENDAR