BEGIN:VCALENDAR
VERSION:2.0
PRODID:-//wp-events-plugin.com//7.0.0.1//EN
TZID:Asia/Jerusalem
X-WR-TIMEZONE:Asia/Jerusalem
BEGIN:VEVENT
UID:2277@bayadaim.org.il
DTSTART;TZID=Asia/Jerusalem:20220714T090000
DTEND;TZID=Asia/Jerusalem:20220714T130000
DTSTAMP:20220630T232142Z
URL:https://www.bayadaim.org.il/events/%d7%9e%d7%a4%d7%92%d7%a9-%d7%94%d7%
 92%d7%a2%d7%94-%d7%99%d7%a8%d7%95%d7%a7%d7%94-%d7%9c%d7%a2%d7%91%d7%95%d7%
 93%d7%94/
SUMMARY:מפגש: הגעה ירוקה לעבודה
DESCRIPTION:\n14/07/2022\n\n9:00 - 13:00\n\n\nבי"ס פורטר\, אוני
 ברסיטת תל אביב\n\nדמי הרשמה: ₪100\n\n
CATEGORIES:מפגשים
END:VEVENT
BEGIN:VTIMEZONE
TZID:Asia/Jerusalem
X-LIC-LOCATION:Asia/Jerusalem
BEGIN:DAYLIGHT
DTSTART:20220325T030000
TZOFFSETFROM:+0200
TZOFFSETTO:+0300
TZNAME:IDT
END:DAYLIGHT
END:VTIMEZONE
END:VCALENDAR