BEGIN:VCALENDAR
VERSION:2.0
PRODID:-//wp-events-plugin.com//7.0.0.1//EN
TZID:Asia/Jerusalem
X-WR-TIMEZONE:Asia/Jerusalem
BEGIN:VEVENT
UID:2266@bayadaim.org.il
DTSTART;TZID=Asia/Jerusalem:20220703T200000
DTEND;TZID=Asia/Jerusalem:20220703T200000
DTSTAMP:20220630T165502Z
URL:https://www.bayadaim.org.il/events/%d7%9e%d7%95%d7%a2%d7%93%d7%95%d7%9
 f-%d7%94%d7%a1%d7%a8%d7%98-%d7%94%d7%98%d7%95%d7%91-%d7%a8%d7%90%d7%99%d7%
 aa%d7%99-%d7%a6%d7%99%d7%a4%d7%95%d7%a8/
SUMMARY:מועדון הסרט הטוב - ראיתי ציפור
DESCRIPTION:מוזמנות ומוזמנים לצפייה איתנו בזו
 ם של הסרט ראיתי ציפור\, שעוסק במצבן העגום 
 של חיות הבר בישראל. הסרט הוא מסמך תיעודי 
 מרגש\, שמציג מציאות ישראלית אחרת\, נוגע לל
 ב ממש כשם שהוא שובר אותו.\n\n&nbsp\;\nרונן זרצק
 י\nבמאי הסרט\nרונן הוא אחד מבכירי העיתונא
 ים הישראלים - ראש מערכת החדשות לשעבר של ע
 יתון הארץ וערך את התוכנית "עובדה". הסרט הז
 ה עבורו הוא השיבה הביתה\, לאהבתו האמיתית -
  בעלי חיים.\n\n
CATEGORIES:הקרנות סרטים
END:VEVENT
BEGIN:VTIMEZONE
TZID:Asia/Jerusalem
X-LIC-LOCATION:Asia/Jerusalem
BEGIN:DAYLIGHT
DTSTART:20220325T030000
TZOFFSETFROM:+0200
TZOFFSETTO:+0300
TZNAME:IDT
END:DAYLIGHT
END:VTIMEZONE
END:VCALENDAR