BEGIN:VCALENDAR
VERSION:2.0
PRODID:-//wp-events-plugin.com//7.0.0.1//EN
TZID:Asia/Jerusalem
X-WR-TIMEZONE:Asia/Jerusalem
BEGIN:VEVENT
UID:1763@bayadaim.org.il
DTSTART;TZID=Asia/Jerusalem:20201223T090000
DTEND;TZID=Asia/Jerusalem:20201223T120000
DTSTAMP:20201127T195116Z
URL:https://www.bayadaim.org.il/events/%d7%9b%d7%a0%d7%a1-%d7%9e%d7%a7%d7%
 95%d7%95%d7%9f-%d7%a9%d7%9c-%d7%a9%d7%a4%d7%a2-%d7%94%d7%98%d7%91%d7%a2-%d
 7%92%d7%99%d7%a0%d7%95%d7%9f-%d7%91%d7%a8-%d7%a7%d7%99%d7%99%d7%9e%d7%90/
SUMMARY:כנס מקוון של "שפע הטבע" - גינון בר קיימ
 א חושבים בגדול!
DESCRIPTION:&nbsp\;\n\n&nbsp\;\n\n\nבואו להכיר את תחום הג
 ינון הבר-קיימא ולפגוש אנשים עם חזון משות
 ף\n\n\n\n\nכנס מקוון\, עשיר בידע וללא עלות\n\n\n\
 n\nהכנס יתקיים באופן מקוון ביום רביעי ה23.12
 .20\n&nbsp\;\n\n\nבשנים האחרונות מבינים שגינון ב
 ר-קיימא זה הכרח המציאות.\nגינון ללא רעלים 
 וכימיקלים\, גידול מזון בבתים ובחוות מקומ
 יות\, שימוש בצמחייה חסכונית.\nגינון בר-קיי
 מא במרחבים הפרטיים והציבורים הוא גינון ה
 עתיד.\nכולנו יכולים להשפיע על סביבת החיים
  שלנו.\nניתן ללא השקעה רבה להפוך את סביבת 
 חיינו להרמונית\, בריאה ומניבה.\n\n\n\n\n\n\n\n\n\n
 \nמטרת הכנס:\n\n\n\n\n\n\nלקדם את תחום הגינון הב
 ר-קיימא במרחבים הביתיים והציבוריים\, מתו
 ך כוונה ליצור סביבה ירוקה ותומכת חיים.\n\n
 ומתוך הבנה שהשינוי נמצא בידיים שלנו.\n\n\n\n
 \n\n\n\n\n\n\n\n\n\n\n\n\n\nמה תקבלו בכנס:\n\n\n\n\n\n 	קוד
 ם כל הרבה השראה. איך בקלות רבה ניתן לשפר א
 ת איכות חיינו ואיכות הסביבה שלנו.\n 	ידע מ
 עשי ממומחים בתחום גידול המזון והגינון.\n 	
 מרחב לשאול את המומחים שאלות ספצפיות.\n 	רע
 יונות לדרכים לגדל מזון בבתים: מצעים מנות
 קים\, ערוגות\, הידרופוניקה\, וצמחייה מתאימ
 ה.\n 	חשיפה לשיטות בתחום: יצירת קומפוסט\, ה
 ידרופוניקה\, מצעים\, זרעי מורשת\, פחם פעיל 
 ועוד\n\n\n\nלמי הכנס מתאים:\n\n\n\n\n\n 	כל מי שרו
 צה להכיר את תחום הגינון הבר-קיימא במרחב ה
 בית והעיר\n 	מי שרוצה ללמוד באילו שיטות ני
 תן לגדל מזון בבית ולמחזר פסולת אורגנית\n 	
 מי שמגדל מזון וחווה אתגרים בגידול ירקות 
 באדמה\, בעציצים או בהידרופוניקה\n 	מחנכים\
 , פעילים ורכזים בגינות קהילתיות.\n 	גננים 
 ופקחים\, אדרכלי נוף\, חקלאים\, ספקים ונותנ
 י שירותים בתחום הקיימות והגינון הבר-קיימ
 א.\n\n\n\n\n\nעלינו\n\n\n\n\n\n\n\n\n\n\n\nשפע הטבע - מרכ
 ז ליווי והדרכה לגינון טבעי\n\n\n\nשפע הטבע ה
 ינו מרכז ליווי והדרכה לגינון טבעי והרמונ
 י. באמצעות שימוש בגינון טבעי אנו יכולים ל
 יצור סביב ביתנו סביבה תומכת חיים בריאים\,
  ללא ריסוסים וכימקלים\, עם הרבה תנובה\, פר
 יחה ועושר ביולוגי. שפע הטבע מספקים שירות
 י ידע באמצעות קורסי גינון בכל הרמות\, כמו 
 גם ייעוץ\, תכנון והקמת מרחבים אקולוגים.\n\n
 \n\n\n\n\n\n\n\n\n\n&nbsp\;\n\n\n\n\n\n\n\n
ATTACH;FMTTYPE=image/jpeg:https://www.bayadaim.org.il/wp-content/uploads/2
 020/08/כנס-חושבות-בגדול.jpg
CATEGORIES:גינון וחקלאות,יום עיון,כנס
 מקוון,כנסים
LOCATION:שפע הטבע - הבית לגינון אקולוגי וגידו
 ל ירקות\, מגד 5\, פרדס חנה - כרכור\, מחוז חיפ
 ה\, Israel
GEO:32.461471;34.969611
X-APPLE-STRUCTURED-LOCATION;VALUE=URI;X-ADDRESS=מגד 5\, פרדס חנה 
 - כרכור\, מחוז חיפה\, Israel;X-APPLE-RADIUS=100;X-TITLE=שפ
 ע הטבע - הבית לגינון אקולוגי וגידול ירקות
 :geo:32.461471,34.969611
END:VEVENT
BEGIN:VTIMEZONE
TZID:Asia/Jerusalem
X-LIC-LOCATION:Asia/Jerusalem
BEGIN:STANDARD
DTSTART:20201025T010000
TZOFFSETFROM:+0300
TZOFFSETTO:+0200
TZNAME:IST
END:STANDARD
END:VTIMEZONE
END:VCALENDAR