BEGIN:VCALENDAR
VERSION:2.0
PRODID:-//wp-events-plugin.com//7.0.0.1//EN
TZID:Asia/Jerusalem
X-WR-TIMEZONE:Asia/Jerusalem
BEGIN:VEVENT
UID:1857@bayadaim.org.il
DTSTART;TZID=Asia/Jerusalem:20201204T083000
DTEND;TZID=Asia/Jerusalem:20201204T163000
DTSTAMP:20201125T152548Z
URL:https://www.bayadaim.org.il/events/%d7%9b%d7%a0%d7%a1-%d7%92%d7%99%d7%
 9c%d7%95%d7%a3-%d7%91%d7%a6%d7%91%d7%a2%d7%95%d7%9f/
SUMMARY:כנס גילוף בצבעון
DESCRIPTION:\n\n&nbsp\;\n\nהי כולם!\n\nמוזמנים ליער צבע
 ון המתחדש בחורפיותו ....\n\nהמתחם שלנו ערוך 
 לחורף עם מחסות נעימים ומדורה טובה\n\nקומק
 ום של תה תמיד מוכן על האש\n\n&nbsp\;\n\nההצטרפו
 ת דרך קבוצת הוואטצאפ :\n\nhttps://chat.whatsapp.com/BVckc
 t18FpXDu6w4TfC7yr\n\n&nbsp\;\n\nלשאלות דברו איתנו 058-52141
 68
CATEGORIES:כנסים,מלאכות
 מסורתיות,סדנאות,קורסים בימי שישי
LOCATION:\, \, 
GEO:33.027455;35.41788
X-APPLE-STRUCTURED-LOCATION;VALUE=URI;X-ADDRESS=\, ;X-APPLE-RADIUS=100;X-TI
 TLE=:geo:33.027455,35.41788
END:VEVENT
BEGIN:VTIMEZONE
TZID:Asia/Jerusalem
X-LIC-LOCATION:Asia/Jerusalem
BEGIN:STANDARD
DTSTART:20201025T010000
TZOFFSETFROM:+0300
TZOFFSETTO:+0200
TZNAME:IST
END:STANDARD
END:VTIMEZONE
END:VCALENDAR