BEGIN:VCALENDAR
VERSION:2.0
PRODID:-//wp-events-plugin.com//7.0.0.1//EN
TZID:Asia/Jerusalem
X-WR-TIMEZONE:Asia/Jerusalem
BEGIN:VEVENT
UID:1851@bayadaim.org.il
DTSTART;TZID=Asia/Jerusalem:20201206T173000
DTEND;TZID=Asia/Jerusalem:20201206T203000
DTSTAMP:20201113T155446Z
URL:https://www.bayadaim.org.il/events/%d7%97%d7%99%d7%96%d7%95%d7%a7-%d7%
 9e%d7%a2%d7%a8%d7%9b%d7%aa-%d7%94%d7%97%d7%99%d7%a1%d7%95%d7%9f-%d7%a1%d7%
 93%d7%a0%d7%94-%d7%9e%d7%a2%d7%a9%d7%99%d7%aa-%d7%a2%d7%9d-%d7%94%d7%98%d7
 %91%d7%a2/
SUMMARY:חיזוק מערכת החיסון - סדנה מעשית - "עם ה
 טבע" גן יבנה
DESCRIPTION:לפני שרצים לבית המרקחת או לארון הת
 רופות תנו צ'אנס לאמא טבע לרפא אתכם.\n\nמוזמ
 נים לקורס בן 3 שעות שבו נלמד איך לחזק את מ
 ערכת החיסון של כל בני הבית בצורה פשוטה עם
  הטבע.\n\nנכין:\n\n 	ויטמין C 100% טבעי (כל כך פש
 וט שלא תבינו איך לא עשיתם קודם)\n 	צ'אי חור
 פי מפנק\, מחמם ומחזק\n 	תרסיס לחיטוי חדרי י
 לדים /מבוגרים\n 	סירופ לחיזוק מערכת החיסו
 ן\n 	אינהלציה מהטבע\n 	שמן עיסוי חורפי להמר
 צת הדם וחימום הגוף\n\nעלות: 220 ש"ח.\n\nמוגבל ל
  10 משתתפים.\n\nתצאו עם כל המוצרים והמתכוני
 ם שתוכלו להשתמש בהם גם בבית.\n\nהרשמה בווט
 סאפ למספר 053-9329396
ATTACH;FMTTYPE=image/jpeg:https://www.bayadaim.org.il/wp-content/uploads/2
 020/11/חיזוק-מערכת-החיסון-פייסבוק-אירוע.png
CATEGORIES:נשים,סדנאות,צמחי מרפא
LOCATION:עם הטבע - מרחב חברתי ירוק\, השיטה\, גן 
 יבנה\, מחוז המרכז\, 7080000\, Israel
GEO:31.78652;34.712572
X-APPLE-STRUCTURED-LOCATION;VALUE=URI;X-ADDRESS=השיטה\, גן יבנה\
 , מחוז המרכז\, 7080000\, Israel;X-APPLE-RADIUS=100;X-TITLE=עם 
 הטבע - מרחב חברתי ירוק:geo:31.78652,34.712572
END:VEVENT
BEGIN:VTIMEZONE
TZID:Asia/Jerusalem
X-LIC-LOCATION:Asia/Jerusalem
BEGIN:STANDARD
DTSTART:20201025T010000
TZOFFSETFROM:+0300
TZOFFSETTO:+0200
TZNAME:IST
END:STANDARD
END:VTIMEZONE
END:VCALENDAR