BEGIN:VCALENDAR
VERSION:2.0
PRODID:-//wp-events-plugin.com//7.0.0.1//EN
TZID:Asia/Jerusalem
X-WR-TIMEZONE:Asia/Jerusalem
BEGIN:VEVENT
UID:1779@bayadaim.org.il
DTSTART;TZID=Asia/Jerusalem;VALUE=DATE:20210110
DTEND;TZID=Asia/Jerusalem;VALUE=DATE:20210206
DTSTAMP:20200827T190709Z
URL:https://www.bayadaim.org.il/events/%d7%94%d7%aa%d7%9e%d7%97%d7%95%d7%a
 a-%d7%99%d7%a8%d7%95%d7%a7%d7%94-%d7%a7%d7%95%d7%a8%d7%a1-%d7%aa%d7%9b%d7%
 a0%d7%95%d7%9f-%d7%a4%d7%a8%d7%9e%d7%a7%d7%9c%d7%a6%d7%a8-%d7%95%d7%94%d7%
 9b%d7%a9-2/
SUMMARY:התמחות ירוקה - קורס תכנון פרמקלצ'ר וה
 כשרה אקולוגית בקיבוץ לוטן
DESCRIPTION:הצטרפו אלינו לתוכנית הכשרה מעשית ב
 ת 4 שבועות בהנדסה בת-קיימא\, תכנון מערכות 
 וחיי קהילה. נלמד על עיצוב\, בנייה והפעלת פ
 רויקטים בר-קיימא\, וקשר בין היבטים אקולוג
 יים\, חברתיים\, כלכליים ותרבותיים כמכלול. 
 נפתח מיומנויות מעשיות של גידול ירקות אור
 גניים ובניה טבעית במרכז לחינוך סביבתי של
 נו.\n\nמשתתפים בקורס גרים באקו-קמפוס\, שכונ
 ת אב-טיפוס של חיים ידידותיים לסביבה. המגו
 רים הם כיפות בנויות מחבילות קש עם טיח אדמ
 ה\, מעשה ידינו. בסיום הקורס המשתתפים מקבל
 ים תעודת "מעצב/ת פרמקלצ'ר" מוכרת בעולם.\nלפ
 רטים נוספים\, צרו קשר.\n&nbsp\;\n\n\nשיעורי הלימ
 וד כוללים:\n\n\n\n\n\n\n\n\n\n\nטכנולוגיות אלטרנט
 יביות\n\n\n\n\n\n\n 	מערכות אנרגיה מתחדשת\n 	מער
 כות טיהור מי ביוב ומים אפורים\n 	שירותים ק
 ומפוסטיים\n 	ביוגז\n 	בישול סולארי\n 	\n\n\n\n\n\
 n\n\n\n\n\n\n\nבנייה טבעית\n\n\n\n\n\n\n 	תערובת אדמה 
 לפרויקטים של בנייה\n 	כיצד לבחון ולהתאים 
 אדמה לבנייה\n 	בנייה עם חבילות קש\n 	פרויקט
 ים של בנייה מעשית תוך שימוש בחומרים טבעי
 ים וממוחזרים\n 	\n\n\n\n\n\n\n\n\n\n\n\n\nפיתוח קהילת
 י מתחדש\n\n\n\n\n\n\n 	השקפת עולם הוליסטית\n 	די
 נמיקה קבוצתית\n 	התחברות לטבע\n 	דילמת הצמ
 יחה וכלכלה עולמית\n 	ייצור מקומי וכלכלת ה
 אושר\n\n\n\n\n\n\n\n\n\n\n\n\n\n\n\n\n\nפרמקלצ'ר ועיצוב 
 אקולוגי\n\n\n\n\n\n\n 	הנדסת מבנה לבתים שנבנו ב
 עבודת יד\n 	עיצוב פסיבי-סולארי ויעילות בצ
 ריכת אנרגיה\n 	אתיקה ועקרונות פרמקלצ'ר\n 	ט
 כניקות תכנון הכוללות: אתר ואקלים\, משאבים
  מתחדשים\, ניתוח תשואות ותשומות\, POBREDIM\n 	ה
 תאמת פרויקטים לצרכי הקהילה והסביבה\n\n\n\n\n
 \n\n\n\n\n\n\n\nחקלאות בת קיימא\n\n\n\n\n\n\n 	ייצור מ
 זון מקומי באמצעות חקלאות בהיקף קטן ומגוו
 ן זנים רב\n 	גידולים משולבים\, הדברה טבעית\
 n 	ייצור אדמה מפסולת אורגנית\, גידול במיכל
 ים ומיקרו-גינות\n 	קומפוסטציה: תיאוריה ות
 רגול\n 	איסוף ושמירת זרעים: תיאוריה ותרגו
 ל\n 	זריעה וגידול שתילים בחממה\n 	תחזוקה וק
 ציר שבועי\n\n\n\nעלויות\n\n\n\n\n\n\nעלות הקורס כ
 ולל כל השיעורים והדרכות\, לינה באקו-קמפוס
  וכלכלה מלאה במשך התקופה כולל שבתות וחגי
 ם - 8750 ש"ח.\n\nהנחה מיוחדת לישראלים - המרכז 
 לאקולוגיה יצירתית מעניק מלגה מיוחדת ליש
 ראלים בגובה 1250 ש"ח. עלות כוללת אחרי הנחה 75
 00 ש"ח.\n\nדמי רישום בגובה 1000 ש"ח יגבו כמקדמ
 ה בעת ההרשמה\, שאר התשלום יגבה שבועיים לפ
 ני פתיחת הקורס.\n\nהנחת רישום מוקדם - 500 ש"ח
  הנחה לנרשמים ומשלמים חודש לפחות  מיום פ
 תיחת הקורס.\n\nפנו אלינו במידה ואתם זקוקים
  לסיוע כספי על מנת לבדוק אפשרות לקבלת מלג
 ה נוספת.\n\n\n\n\n\n&nbsp\;\n\n\n\n\n\n\n\n\n\n\n
CATEGORIES:הכשרה,קורסים,קורסים ארוכים
LOCATION:המרכז לאקולוגיה יצירתית - קיבוץ לוטן
 \, לוטן\, לוטן\, הדרום\, Israel
GEO:29.98693;35.08806
X-APPLE-STRUCTURED-LOCATION;VALUE=URI;X-ADDRESS=לוטן\, לוטן\, הד
 רום\, Israel;X-APPLE-RADIUS=100;X-TITLE=המרכז לאקולוגיה 
 יצירתית - קיבוץ לוטן:geo:29.98693,35.08806
END:VEVENT
BEGIN:VTIMEZONE
TZID:Asia/Jerusalem
X-LIC-LOCATION:Asia/Jerusalem
BEGIN:STANDARD
DTSTART:20201025T010000
TZOFFSETFROM:+0300
TZOFFSETTO:+0200
TZNAME:IST
END:STANDARD
END:VTIMEZONE
END:VCALENDAR