BEGIN:VCALENDAR
VERSION:2.0
PRODID:-//wp-events-plugin.com//7.0.0.1//EN
TZID:Asia/Jerusalem
X-WR-TIMEZONE:Asia/Jerusalem
BEGIN:VEVENT
UID:1839@bayadaim.org.il
DTSTART;TZID=Asia/Jerusalem;VALUE=DATE:20201214
DTEND;TZID=Asia/Jerusalem;VALUE=DATE:20201218
DTSTAMP:20201206T063203Z
URL:https://www.bayadaim.org.il/events/%d7%94%d7%aa%d7%9b%d7%a0%d7%99%d7%a
 a-%d7%9c%d7%a7%d7%99%d7%99%d7%9e%d7%95%d7%aa-%d7%9e%d7%a2%d7%a9%d7%99%d7%a
 a-13-18-12-%d7%97%d7%a0%d7%95%d7%9b%d7%94/
SUMMARY:התָּכְנִית לקיימות מעשית\, 14-17/12 (חנוכ
 ה)
DESCRIPTION:\n\n\n4 ימים של לימוד ותרגול אורחות חי
 ים מיטיבים\nעם הסביבה\, עם הזולת ועם עצמנו
 .\n\nעלות הַתָּכְנִית כוללת מגורים\, ארוחו
 ת\, סדנאות ושיעורים במשך היום. הַתָּכְנִי
 ת מיועדת ל-עד 10 משתתפים/ות.\n\n\n\n\nבין הגישו
 ת בהן נעסוק: פרמקלצ'ר\, חקלאות מתחדשת\, בר
 יאות טבעית ותזונה מיטיבה בגישת ה"הגיינה 
 הטבעית"\, "תקשורת מקרבת"\, יוגה\, תנועה ותרג
 ילי נשימה.\nימי התוכנית מאפשרים לקחת פסק-
 זמן\, להתבונן בעצמו ולהקשיב תוך כדי התנסו
 ת באלטרנטיבות קיימות לאורח החיים המודרנ
 י.\nהתכנית מתקיימת בבית נעים וצנוע במושב 
 רמות שיעמוד לרשות המשתתפים/ות. הלינה בחד
 רים משותפים. למעוניינים קיימת אפשרות (שא
 ינה כלולה במחיר) לשכור צימרים אצל שכנינו.
 \nהימים מגוונים ויהיו מורכבים משיעורים\, 
 התנסות בעבודה בגינה\, סדנאות\, הכנת מזון ב
 צוותא\, בילוי בחוץ ובחיק הטבע\, שיח במעגל 
 קבוצתי ותרגולי תנועה.\nלמידע על תאריכי המ
 חזורים הקרובים לחצו כאן\n\n
ATTACH;FMTTYPE=image/jpeg:https://www.bayadaim.org.il/wp-content/uploads/2
 020/10/Her-Journey.jpg
CATEGORIES:גינון וחקלאות,המטבח
 האקולוגי,מזון,סדנאות,פרמקלצ'ר,קורס בסופי
 שבוע,קורסים
LOCATION:משק אקלוגי "ירוק ברמות"\, משק 56\, מושב 
 רמות\, 1294800\, Israel
GEO:32.848334;35.66441
X-APPLE-STRUCTURED-LOCATION;VALUE=URI;X-ADDRESS=משק 56\, מושב רמו
 ת\, 1294800\, Israel;X-APPLE-RADIUS=100;X-TITLE=משק אקלוגי \"י
 רוק ברמות\":geo:32.848334,35.66441
END:VEVENT
BEGIN:VTIMEZONE
TZID:Asia/Jerusalem
X-LIC-LOCATION:Asia/Jerusalem
BEGIN:STANDARD
DTSTART:20201025T010000
TZOFFSETFROM:+0300
TZOFFSETTO:+0200
TZNAME:IST
END:STANDARD
END:VTIMEZONE
END:VCALENDAR