BEGIN:VCALENDAR
VERSION:2.0
PRODID:-//wp-events-plugin.com//7.0.0.1//EN
TZID:Asia/Jerusalem
X-WR-TIMEZONE:Asia/Jerusalem
BEGIN:VEVENT
UID:1863@bayadaim.org.il
DTSTART;TZID=Asia/Jerusalem:20201227T000000
DTEND;TZID=Asia/Jerusalem:20201227T000000
DTSTAMP:20201225T060604Z
URL:https://www.bayadaim.org.il/events/%d7%91%d7%99%d7%97%d7%93-%d7%91%d7%
 a1%d7%92%d7%a8/
SUMMARY:ביחד בסגר
DESCRIPTION:את הסגר הקרוב מבלים יחד- במשק האקול
 וגי "ירוק ברמות".\nזו הזמנה לקחת חלק בסגר ק
 הילתי\, ללמוד על אקולוגיה ובריאות\, להתחב
 ר לאדמה ולשפע הטבעי ולחיות ביחד\, מתוך חי
 בור והקשבה.\nמיום ראשון ה27/12\n\nלמה אפשר לצ
 פות?\n\nהתנסות מעשית בחיי משק אקולוגי\n&gt\; 
 מפגש תוכן בכל יום\, באחד מהנושאים: "פרמקלצ
 'ר"\, "תקשורת מקרבת"\, בריאות טבעית ותזונה מ
 יטיבה בגישת ה"הגיינה הטבעית"\n&gt\; הזדמנות 
 ללמוד את עבודת הגינה האקולוגית ולגדל את 
 הירקות שלנו בעצמנו\n&gt\; הכנת מזון בצוותא\n
 &gt\; מגורים בבית משותף\n&gt\; אפשרות לתרגל תנ
 ועה מגוונת ומותאמת בכל יום\n&gt\; חוויה חבר
 תית וקהילתית\, שיח במעגל קבוצתי\n&gt\; קהילה
  תומכת בתזונה מיטיבה ואורח חיים בגישת "הב
 ריאות הטבעית"\n\nכל התכנים במהלך השבוע מוצ
 עים כהזמנה\, והלו"ז גמיש ויורכב ביחד עם המ
 שתתפים בהתאם לצרכים ולבקשות האישיים והק
 בוצתיים.\n\n\nבואו לחוות סגר אחר. לקחת פסק-
 זמן\, להתבונן בעצמנו ולהקשיב תוך כדי התנס
 ות באלטרנטיבות קיימות לאורח החיים המודר
 ני.\n​\n\nמה העלות?\nהמחיר הכולל מגורים\, מז
 ון\, סדנאות ואירוח במשך שבועיים הוא 1740 ש"ח
 \n\nמעוניינים? צרו איתנו קשר!\nכתבו לנו אמי
 יל לyarokberamot@gmail.com \nאנחנו נשלח לך "שאלון ה
 רשמה והיכרות" למלא.\nבמהלך מילוי "שאלון הה
 רשמה" יש גם בקשה לתשלום דמי הרשמה ראשוניי
 ם של 450 ש"ח.
ATTACH;FMTTYPE=image/jpeg:https://www.bayadaim.org.il/wp-content/uploads/2
 020/12/Her-Journey-Gaia-Orion.jpg
CATEGORIES:גינון וחקלאות,המטבח
 האקולוגי,ליקוט,מזון,מפגשים,סדנאות,פרמקל
 'ר,קורסים,שימושחוזר
LOCATION:משק אקלוגי "ירוק ברמות"\, משק 56\, מושב 
 רמות\, 1294800\, Israel
GEO:32.848334;35.66441
X-APPLE-STRUCTURED-LOCATION;VALUE=URI;X-ADDRESS=משק 56\, מושב רמו
 ת\, 1294800\, Israel;X-APPLE-RADIUS=100;X-TITLE=משק אקלוגי \"י
 רוק ברמות\":geo:32.848334,35.66441
END:VEVENT
BEGIN:VTIMEZONE
TZID:Asia/Jerusalem
X-LIC-LOCATION:Asia/Jerusalem
BEGIN:STANDARD
DTSTART:20201025T010000
TZOFFSETFROM:+0300
TZOFFSETTO:+0200
TZNAME:IST
END:STANDARD
END:VTIMEZONE
END:VCALENDAR