BEGIN:VCALENDAR
VERSION:2.0
PRODID:-//wp-events-plugin.com//7.0.0.1//EN
TZID:Asia/Jerusalem
X-WR-TIMEZONE:Asia/Jerusalem
BEGIN:VEVENT
UID:1849@bayadaim.org.il
DTSTART;TZID=Asia/Jerusalem:20201215T190000
DTEND;TZID=Asia/Jerusalem:20201215T203000
DTSTAMP:20201110T121531Z
URL:https://www.bayadaim.org.il/events/%d7%90%d7%a9-%d7%94%d7%9e%d7%a8%d7%
 93-%d7%94%d7%9b%d7%a0%d7%aa-%d7%a0%d7%a8%d7%95%d7%aa-%d7%90%d7%a7%d7%95%d7
 %9c%d7%95%d7%92%d7%99%d7%99%d7%9d-%d7%a1%d7%93%d7%a0%d7%94-%d7%9e%d7%a7%d7
 %95/
SUMMARY:אש המרד\, הכנת נרות אקולוגיים – סדנה 
 מקוונת לחנוכה!
DESCRIPTION:\n\n\nניתן כבוד לאש ונלמד להכין נרות 
 אקולוגיים.\n\n\n\nהמפגש יתקיים בזום. להרשמה 
 ולקבלת קישורית לזום:\nhttp://shorturl.at/rvIJN\nהקיש
 ורית תקפה לכל הסדנאות של עונת סתיו–חורף 
 וניתנת תמורת תשלום של 150 שקל.\nאם יש לך עני
 ין רק בסדנה זו\, אפשר לשלם כל סכום\, לפי הי
 כולת ותחושת הלב בסוף הסדנה.\nלאפשרויות תש
 לום:\ncitytree.net/#donate\nלתמיכה קבועה בעץבעיר:\nht
 tps://www.patreon.com/join/CityTree\nפטרוניות משלמות רק 10
 0 שקל עבור הסדרה.\n\nבמסגרת הקורס המקוון הש
 בועי "השיבה הביתה" – לימודים עם תמי צרי ו
 חברות מעץבעיר – בית לאקולוגיה עירונית \n
 מקומפוסט ועד קהילה\, בין קטסטרופה לאוטופ
 יה\, על בְּסיס סדרת הסרטונים "השיבה הביתה"
  המתפרסמת בערוץ יוטיוב של עץבעיר – עכשיו
  הזמן לחשב מסלול מחדש.\nמגלות שעולם נדיב ל
 כולם ולכול אפשרי\, מחפשות את הדרכים לחוות
  אותו כאן ועכשיו ומתחברות למעגלי השינוי\,
  לקהילה. \n"שידור ישיר" מהדירה האקולוגית ש
 ל עץבעיר בכיכר ביאליק\, במפגשים מקוונים פ
 תוחים.\n\nימי שלישי\, 19:00\n\nתמי\, אלון והעץ
ATTACH;FMTTYPE=image/jpeg:https://www.bayadaim.org.il/wp-content/uploads/2
 020/11/נרות.jpg
CATEGORIES:בבית,סדנאות,קורסים,קורסים
 מקוונים,שימושחוזר
LOCATION:עץבעיר\, חיים כהן 5\, פתח תקווה\, Israel
GEO:32.073301;34.770846
X-APPLE-STRUCTURED-LOCATION;VALUE=URI;X-ADDRESS=חיים כהן 5\, פתח 
 תקווה\, Israel;X-APPLE-RADIUS=100;X-TITLE=עץבעיר:geo:32.073301,
 34.770846
END:VEVENT
BEGIN:VTIMEZONE
TZID:Asia/Jerusalem
X-LIC-LOCATION:Asia/Jerusalem
BEGIN:STANDARD
DTSTART:20201025T010000
TZOFFSETFROM:+0300
TZOFFSETTO:+0200
TZNAME:IST
END:STANDARD
END:VTIMEZONE
END:VCALENDAR